BEGIN:VCALENDAR
PRODID:-//eluceo/ical//2.0/EN
VERSION:2.0
CALSCALE:GREGORIAN
BEGIN:VEVENT
UID:a75cd958cade75f0ef2d117f53331564
DTSTAMP:20260422T043234Z
SUMMARY:Mitmach-Mittwoch: Four elements
DESCRIPTION:
DTSTART:20260311T170000
DTEND:20260311T200000
LOCATION:HAUPTBAU
END:VEVENT
BEGIN:VTIMEZONE
TZID:Europe/Zurich
BEGIN:STANDARD
DTSTART:20260311T170000
TZNAME:CET
TZOFFSETTO:+0100
TZOFFSETFROM:+0100
END:STANDARD
END:VTIMEZONE
END:VCALENDAR
