BEGIN:VCALENDAR
PRODID:-//eluceo/ical//2.0/EN
VERSION:2.0
CALSCALE:GREGORIAN
BEGIN:VEVENT
UID:42f33afc60cca939c6312eb819ae6bcc
DTSTAMP:20260421T000746Z
SUMMARY:Vernissage: &quot\;Van Gogh\, Hodler and a Cabriolet. The Collector
  and Pioneer Gertrud Dübi-Müller&quot\;
DESCRIPTION:
DTSTART:20260918T183000
DTEND:20260918T210000
LOCATION:NEUBAU
END:VEVENT
BEGIN:VTIMEZONE
TZID:Europe/Zurich
BEGIN:DAYLIGHT
DTSTART:20260918T183000
TZNAME:CEST
TZOFFSETTO:+0200
TZOFFSETFROM:+0200
END:DAYLIGHT
END:VTIMEZONE
END:VCALENDAR
