BEGIN:VCALENDAR
PRODID:-//eluceo/ical//2.0/EN
VERSION:2.0
CALSCALE:GREGORIAN
BEGIN:VEVENT
UID:60573113749021988bf2c4da2319ad7d
DTSTAMP:20260421T003325Z
SUMMARY:Visite guidée de l&#039\;exposition « Fantômes. Sur les traces d
 u surnaturel »
DESCRIPTION:
DTSTART:20260222T140000
DTEND:20260222T150000
LOCATION:NEUBAU
END:VEVENT
BEGIN:VTIMEZONE
TZID:Europe/Zurich
BEGIN:STANDARD
DTSTART:20260222T140000
TZNAME:CET
TZOFFSETTO:+0100
TZOFFSETFROM:+0100
END:STANDARD
END:VTIMEZONE
END:VCALENDAR
