BEGIN:VCALENDAR
PRODID:-//eluceo/ical//2.0/EN
VERSION:2.0
CALSCALE:GREGORIAN
BEGIN:VEVENT
UID:69c395c6e299bb823d948552dbb51296
DTSTAMP:20260421T003325Z
SUMMARY:Führung in der Ausstellung «Geister. Dem Übernatürlichen auf de
 r Spur»
DESCRIPTION:
DTSTART:20260221T140000
DTEND:20260221T150000
LOCATION:NEUBAU
END:VEVENT
BEGIN:VTIMEZONE
TZID:Europe/Zurich
BEGIN:STANDARD
DTSTART:20260221T140000
TZNAME:CET
TZOFFSETTO:+0100
TZOFFSETFROM:+0100
END:STANDARD
END:VTIMEZONE
END:VCALENDAR
