BEGIN:VCALENDAR
PRODID:-//eluceo/ical//2.0/EN
VERSION:2.0
CALSCALE:GREGORIAN
BEGIN:VEVENT
UID:8b1b759cf418ba761e13216d5ea78243
DTSTAMP:20260421T022509Z
SUMMARY:Mitmach-Mittwoch: Expressionismus
DESCRIPTION:
DTSTART:20260218T170000
DTEND:20260218T200000
LOCATION:HAUPTBAU
END:VEVENT
BEGIN:VTIMEZONE
TZID:Europe/Zurich
BEGIN:STANDARD
DTSTART:20260218T170000
TZNAME:CET
TZOFFSETTO:+0100
TZOFFSETFROM:+0100
END:STANDARD
END:VTIMEZONE
END:VCALENDAR
