BEGIN:VCALENDAR
PRODID:-//eluceo/ical//2.0/EN
VERSION:2.0
CALSCALE:GREGORIAN
BEGIN:VEVENT
UID:915ec2da9bac3b8de828d3e6278239cb
DTSTAMP:20260421T022510Z
SUMMARY:Mitmach-Mittwoch: Collage\, Collage!
DESCRIPTION:
DTSTART:20260128T170000
DTEND:20260128T200000
LOCATION:HAUPTBAU
END:VEVENT
BEGIN:VTIMEZONE
TZID:Europe/Zurich
BEGIN:STANDARD
DTSTART:20260128T170000
TZNAME:CET
TZOFFSETTO:+0100
TZOFFSETFROM:+0100
END:STANDARD
END:VTIMEZONE
END:VCALENDAR
