BEGIN:VCALENDAR
PRODID:-//eluceo/ical//2.0/EN
VERSION:2.0
CALSCALE:GREGORIAN
BEGIN:VEVENT
UID:ab6380608c219b20d74658f5e4654c7e
DTSTAMP:20260421T022524Z
SUMMARY:Museums Night: Rendezvous with your spirits
DESCRIPTION:
DTSTART:20260123T180000
DTEND:20260123T020000
LOCATION:HAUPTBAU\, NEUBAU
END:VEVENT
BEGIN:VTIMEZONE
TZID:Europe/Zurich
BEGIN:STANDARD
DTSTART:20260123T180000
TZNAME:CET
TZOFFSETTO:+0100
TZOFFSETFROM:+0100
END:STANDARD
END:VTIMEZONE
END:VCALENDAR
