BEGIN:VCALENDAR
PRODID:-//eluceo/ical//2.0/EN
VERSION:2.0
CALSCALE:GREGORIAN
BEGIN:VEVENT
UID:670c0478c0e70c1f455d08f32c10b012
DTSTAMP:20260421T022550Z
SUMMARY:Mitmach-Mittwoch: Collage\, Collage!
DESCRIPTION:
DTSTART:20260121T170000
DTEND:20260121T200000
LOCATION:HAUPTBAU
END:VEVENT
BEGIN:VTIMEZONE
TZID:Europe/Zurich
BEGIN:STANDARD
DTSTART:20260121T170000
TZNAME:CET
TZOFFSETTO:+0100
TZOFFSETFROM:+0100
END:STANDARD
END:VTIMEZONE
END:VCALENDAR
