BEGIN:VCALENDAR
PRODID:-//eluceo/ical//2.0/EN
VERSION:2.0
CALSCALE:GREGORIAN
BEGIN:VEVENT
UID:3203d0e0a2f195ef2058e2460e3b7ac4
DTSTAMP:20260421T022524Z
SUMMARY:Guided tour of the exhibition &quot\;Ghosts. Visualizing the supern
 atural&quot\;
DESCRIPTION:
DTSTART:20260201T140000
DTEND:20260201T150000
LOCATION:NEUBAU
END:VEVENT
BEGIN:VTIMEZONE
TZID:Europe/Zurich
BEGIN:STANDARD
DTSTART:20260201T140000
TZNAME:CET
TZOFFSETTO:+0100
TZOFFSETFROM:+0100
END:STANDARD
END:VTIMEZONE
END:VCALENDAR
