BEGIN:VCALENDAR
PRODID:-//eluceo/ical//2.0/EN
VERSION:2.0
CALSCALE:GREGORIAN
BEGIN:VEVENT
UID:37a035ebd00190c2efad1eae1ccf5eca
DTSTAMP:20260426T003436Z
SUMMARY:Tandemführung mit Rolf Thalmann\, Vorstand Schwulenarchiv Schweiz\
 , und Aïcha Revellat\, Kunstvermittlerin
DESCRIPTION:
DTSTART:20260517T170000
DTEND:20260517T174500
LOCATION:NEUBAU
END:VEVENT
BEGIN:VTIMEZONE
TZID:Europe/Zurich
BEGIN:DAYLIGHT
DTSTART:20260517T170000
TZNAME:CEST
TZOFFSETTO:+0200
TZOFFSETFROM:+0200
END:DAYLIGHT
END:VTIMEZONE
END:VCALENDAR
