BEGIN:VCALENDAR
PRODID:-//eluceo/ical//2.0/EN
VERSION:2.0
CALSCALE:GREGORIAN
BEGIN:VEVENT
UID:237c5c6faeb388160b372f2a5dc4c252
DTSTAMP:20260426T003218Z
SUMMARY:Tandemführung mit Katha Baur des feministischen Salons Basel und M
 arianne van Vulpen von queerAltern sowie Anna Dedi\, wissenschaftliche Mit
 arbeiterin
DESCRIPTION:
DTSTART:20260517T160000
DTEND:20260517T164500
LOCATION:NEUBAU
END:VEVENT
BEGIN:VTIMEZONE
TZID:Europe/Zurich
BEGIN:DAYLIGHT
DTSTART:20260517T160000
TZNAME:CEST
TZOFFSETTO:+0200
TZOFFSETFROM:+0200
END:DAYLIGHT
END:VTIMEZONE
END:VCALENDAR
