BEGIN:VCALENDAR
PRODID:-//eluceo/ical//2.0/EN
VERSION:2.0
CALSCALE:GREGORIAN
BEGIN:VEVENT
UID:d0b8255e83e3bd71a99be4777e2c5f1e
DTSTAMP:20260426T022602Z
SUMMARY:Führung in der Ausstellung «Helen Frankenthaler»
DESCRIPTION:
DTSTART:20260530T140000
DTEND:20260530T150000
LOCATION:NEUBAU
END:VEVENT
BEGIN:VTIMEZONE
TZID:Europe/Zurich
BEGIN:DAYLIGHT
DTSTART:20260530T140000
TZNAME:CEST
TZOFFSETTO:+0200
TZOFFSETFROM:+0200
END:DAYLIGHT
END:VTIMEZONE
END:VCALENDAR
