BEGIN:VCALENDAR
PRODID:-//eluceo/ical//2.0/EN
VERSION:2.0
CALSCALE:GREGORIAN
BEGIN:VEVENT
UID:00c98788ac0a1be6e1ed5c0dfdd75e03
DTSTAMP:20260426T022532Z
SUMMARY:Eröffnung für Familien mit Mitmach-Angeboten
DESCRIPTION:
DTSTART:20260529T183000
DTEND:20260529T200000
LOCATION:GEGENWART
END:VEVENT
BEGIN:VTIMEZONE
TZID:Europe/Zurich
BEGIN:DAYLIGHT
DTSTART:20260529T183000
TZNAME:CEST
TZOFFSETTO:+0200
TZOFFSETFROM:+0200
END:DAYLIGHT
END:VTIMEZONE
END:VCALENDAR
