BEGIN:VCALENDAR
PRODID:-//eluceo/ical//2.0/EN
VERSION:2.0
CALSCALE:GREGORIAN
BEGIN:VEVENT
UID:8324e79df4472d7e36d6bde877180c3c
DTSTAMP:20260426T003558Z
SUMMARY:Führung in der Ausstellung «Helen Frankenthaler»
DESCRIPTION:
DTSTART:20260523T140000
DTEND:20260523T150000
LOCATION:NEUBAU
END:VEVENT
BEGIN:VTIMEZONE
TZID:Europe/Zurich
BEGIN:DAYLIGHT
DTSTART:20260523T140000
TZNAME:CEST
TZOFFSETTO:+0200
TZOFFSETFROM:+0200
END:DAYLIGHT
END:VTIMEZONE
END:VCALENDAR
