BEGIN:VCALENDAR
PRODID:-//eluceo/ical//2.0/EN
VERSION:2.0
CALSCALE:GREGORIAN
BEGIN:VEVENT
UID:e40782710f5c15ae6b07001dc9e7748e
DTSTAMP:20260426T003436Z
SUMMARY:Führung in der Ausstellung «The First Homosexuals»
DESCRIPTION:
DTSTART:20260510T150000
DTEND:20260510T160000
LOCATION:NEUBAU
END:VEVENT
BEGIN:VTIMEZONE
TZID:Europe/Zurich
BEGIN:DAYLIGHT
DTSTART:20260510T150000
TZNAME:CEST
TZOFFSETTO:+0200
TZOFFSETFROM:+0200
END:DAYLIGHT
END:VTIMEZONE
END:VCALENDAR
