BEGIN:VCALENDAR
PRODID:-//eluceo/ical//2.0/EN
VERSION:2.0
CALSCALE:GREGORIAN
BEGIN:VEVENT
UID:890cf292242e4fbcf8eed6d5b7c416de
DTSTAMP:20260426T003339Z
SUMMARY:Führung in der Ausstellung «Helen Frankenthaler»
DESCRIPTION:
DTSTART:20260509T140000
DTEND:20260509T150000
LOCATION:NEUBAU
END:VEVENT
BEGIN:VTIMEZONE
TZID:Europe/Zurich
BEGIN:DAYLIGHT
DTSTART:20260509T140000
TZNAME:CEST
TZOFFSETTO:+0200
TZOFFSETFROM:+0200
END:DAYLIGHT
END:VTIMEZONE
END:VCALENDAR
