BEGIN:VCALENDAR
PRODID:-//eluceo/ical//2.0/EN
VERSION:2.0
CALSCALE:GREGORIAN
BEGIN:VEVENT
UID:7b6c05a92ae85158c6300b7eb1b7134e
DTSTAMP:20260426T003537Z
SUMMARY:Kurator:innenführung: «Helen Frankenthaler»
DESCRIPTION:
DTSTART:20260506T183000
DTEND:20260506T193000
LOCATION:NEUBAU
END:VEVENT
BEGIN:VTIMEZONE
TZID:Europe/Zurich
BEGIN:DAYLIGHT
DTSTART:20260506T183000
TZNAME:CEST
TZOFFSETTO:+0200
TZOFFSETFROM:+0200
END:DAYLIGHT
END:VTIMEZONE
END:VCALENDAR
