BEGIN:VCALENDAR
PRODID:-//eluceo/ical//2.0/EN
VERSION:2.0
CALSCALE:GREGORIAN
BEGIN:VEVENT
UID:63c0c9c2d2ea83033a3168d32db79d32
DTSTAMP:20260424T152203Z
SUMMARY:Führung in der Ausstellung «Helen Frankenthaler»
DESCRIPTION:
DTSTART:20260502T140000
DTEND:20260502T150000
LOCATION:NEUBAU
END:VEVENT
BEGIN:VTIMEZONE
TZID:Europe/Zurich
BEGIN:DAYLIGHT
DTSTART:20260502T140000
TZNAME:CEST
TZOFFSETTO:+0200
TZOFFSETFROM:+0200
END:DAYLIGHT
END:VTIMEZONE
END:VCALENDAR
