BEGIN:VCALENDAR
PRODID:-//eluceo/ical//2.0/EN
VERSION:2.0
CALSCALE:GREGORIAN
BEGIN:VEVENT
UID:4a46b35bd4bd630075d1d263f9643842
DTSTAMP:20260423T193319Z
SUMMARY:Programmtag: The First Homosexuals. Die Entstehung neuer Identität
 en 1869–1939
DESCRIPTION:
DTSTART:20260517T100000
DTEND:20260517T174500
LOCATION:NEUBAU
END:VEVENT
BEGIN:VTIMEZONE
TZID:Europe/Zurich
BEGIN:DAYLIGHT
DTSTART:20260517T100000
TZNAME:CEST
TZOFFSETTO:+0200
TZOFFSETFROM:+0200
END:DAYLIGHT
END:VTIMEZONE
END:VCALENDAR
