BEGIN:VCALENDAR
PRODID:-//eluceo/ical//2.0/EN
VERSION:2.0
CALSCALE:GREGORIAN
BEGIN:VEVENT
UID:bb5b57331e29accd1541111bf136ab73
DTSTAMP:20260423T212407Z
SUMMARY:30 Minuten: Ein lebendes Kunstwerk
DESCRIPTION:
DTSTART:20260324T123000
DTEND:20260324T130000
LOCATION:NEUBAU
END:VEVENT
BEGIN:VTIMEZONE
TZID:Europe/Zurich
BEGIN:STANDARD
DTSTART:20260324T123000
TZNAME:CET
TZOFFSETTO:+0100
TZOFFSETFROM:+0100
END:STANDARD
END:VTIMEZONE
END:VCALENDAR
