BEGIN:VCALENDAR
PRODID:-//eluceo/ical//2.0/EN
VERSION:2.0
CALSCALE:GREGORIAN
BEGIN:VEVENT
UID:9f8ea242743a875748b1622e6293e4ab
DTSTAMP:20260423T230244Z
SUMMARY:Guided curator&#039\;s tour of the exhibition &quot\;Ghosts. Visual
 izing the supernatural&quot\;
DESCRIPTION:
DTSTART:20260304T183000
DTEND:20260304T193000
LOCATION:NEUBAU
END:VEVENT
BEGIN:VTIMEZONE
TZID:Europe/Zurich
BEGIN:STANDARD
DTSTART:20260304T183000
TZNAME:CET
TZOFFSETTO:+0100
TZOFFSETFROM:+0100
END:STANDARD
END:VTIMEZONE
END:VCALENDAR
