BEGIN:VCALENDAR
PRODID:-//eluceo/ical//2.0/EN
VERSION:2.0
CALSCALE:GREGORIAN
BEGIN:VEVENT
UID:c34bf2868996c5ba111f32512b04d073
DTSTAMP:20260423T230111Z
SUMMARY:30 Minuten: Alte Meisterinnen im Kupferstichkabinett: Ankäufe\, En
 tdeckungen
DESCRIPTION:
DTSTART:20260303T123000
DTEND:20260303T130000
LOCATION:HAUPTBAU
END:VEVENT
BEGIN:VTIMEZONE
TZID:Europe/Zurich
BEGIN:STANDARD
DTSTART:20260303T123000
TZNAME:CET
TZOFFSETTO:+0100
TZOFFSETFROM:+0100
END:STANDARD
END:VTIMEZONE
END:VCALENDAR
