BEGIN:VCALENDAR
PRODID:-//eluceo/ical//2.0/EN
VERSION:2.0
CALSCALE:GREGORIAN
BEGIN:VEVENT
UID:627fa2d86e48218088c08910ecdbcdcb
DTSTAMP:20260423T230320Z
SUMMARY:Offenes Atelier: Zwitscher\, zwitscher
DESCRIPTION:
DTSTART:20260301T100000
DTEND:20260301T160000
LOCATION:HAUPTBAU
END:VEVENT
BEGIN:VTIMEZONE
TZID:Europe/Zurich
BEGIN:STANDARD
DTSTART:20260301T100000
TZNAME:CET
TZOFFSETTO:+0100
TZOFFSETFROM:+0100
END:STANDARD
END:VTIMEZONE
END:VCALENDAR
