BEGIN:VCALENDAR
PRODID:-//eluceo/ical//2.0/EN
VERSION:2.0
CALSCALE:GREGORIAN
BEGIN:VEVENT
UID:fc43a6bd7b70cf18e58f1396948bd020
DTSTAMP:20260423T230415Z
SUMMARY:Mittwoch-Matinée: «The First Homosexuals»
DESCRIPTION:
DTSTART:20260304T101500
DTEND:20260304T120000
LOCATION:NEUBAU
END:VEVENT
BEGIN:VTIMEZONE
TZID:Europe/Zurich
BEGIN:STANDARD
DTSTART:20260304T101500
TZNAME:CET
TZOFFSETTO:+0100
TZOFFSETFROM:+0100
END:STANDARD
END:VTIMEZONE
END:VCALENDAR
