BEGIN:VCALENDAR
PRODID:-//eluceo/ical//2.0/EN
VERSION:2.0
CALSCALE:GREGORIAN
BEGIN:VEVENT
UID:8074c2d65c521bbc1bc0b4997ee42ae7
DTSTAMP:20260423T225817Z
SUMMARY:Vernissage «The First Homosexuals. Die Entstehung neuer Identität
 en 1869–1939» und Projekteröffnung «Marc Bauer. Fear Rage Desire\, St
 ill Standing»
DESCRIPTION:
DTSTART:20260306T183000
DTEND:20260306T210000
LOCATION:NEUBAU
END:VEVENT
BEGIN:VTIMEZONE
TZID:Europe/Zurich
BEGIN:STANDARD
DTSTART:20260306T183000
TZNAME:CET
TZOFFSETTO:+0100
TZOFFSETFROM:+0100
END:STANDARD
END:VTIMEZONE
END:VCALENDAR
