BEGIN:VCALENDAR
PRODID:-//eluceo/ical//2.0/EN
VERSION:2.0
CALSCALE:GREGORIAN
BEGIN:VEVENT
UID:679fcb14c489aafbf63b0295b910d738
DTSTAMP:20260423T212351Z
SUMMARY:Mitmach-Mittwoch: Vier Elemente
DESCRIPTION:
DTSTART:20260325T170000
DTEND:20260325T200000
LOCATION:HAUPTBAU
END:VEVENT
BEGIN:VTIMEZONE
TZID:Europe/Zurich
BEGIN:STANDARD
DTSTART:20260325T170000
TZNAME:CET
TZOFFSETTO:+0100
TZOFFSETFROM:+0100
END:STANDARD
END:VTIMEZONE
END:VCALENDAR
