BEGIN:VCALENDAR
PRODID:-//eluceo/ical//2.0/EN
VERSION:2.0
CALSCALE:GREGORIAN
BEGIN:VEVENT
UID:047ecbc2505cab4600d1bf3a878fa206
DTSTAMP:20260423T225731Z
SUMMARY:Mitmach-Mittwoch: Vier Elemente
DESCRIPTION:
DTSTART:20260304T170000
DTEND:20260304T200000
LOCATION:HAUPTBAU
END:VEVENT
BEGIN:VTIMEZONE
TZID:Europe/Zurich
BEGIN:STANDARD
DTSTART:20260304T170000
TZNAME:CET
TZOFFSETTO:+0100
TZOFFSETFROM:+0100
END:STANDARD
END:VTIMEZONE
END:VCALENDAR
