BEGIN:VCALENDAR
PRODID:-//eluceo/ical//2.0/EN
VERSION:2.0
CALSCALE:GREGORIAN
BEGIN:VEVENT
UID:92036a67eddf1e9bc30269a3bd8b28e7
DTSTAMP:20260423T230015Z
SUMMARY:Mitmach-Mittwoch: Vier Elemente
DESCRIPTION:
DTSTART:20260311T170000
DTEND:20260311T200000
LOCATION:HAUPTBAU
END:VEVENT
BEGIN:VTIMEZONE
TZID:Europe/Zurich
BEGIN:STANDARD
DTSTART:20260311T170000
TZNAME:CET
TZOFFSETTO:+0100
TZOFFSETFROM:+0100
END:STANDARD
END:VTIMEZONE
END:VCALENDAR
