BEGIN:VCALENDAR
PRODID:-//eluceo/ical//2.0/EN
VERSION:2.0
CALSCALE:GREGORIAN
BEGIN:VEVENT
UID:d1f5feca1fd0b21dedfb4ad946fd98be
DTSTAMP:20260421T125154Z
SUMMARY:Vernissage: «Van Gogh\, Hodler und ein Cabriolet. Die Sammlerin un
 d Pionierin Gertrud Dübi-Müller»
DESCRIPTION:
DTSTART:20260918T183000
DTEND:20260918T210000
LOCATION:NEUBAU
END:VEVENT
BEGIN:VTIMEZONE
TZID:Europe/Zurich
BEGIN:DAYLIGHT
DTSTART:20260918T183000
TZNAME:CEST
TZOFFSETTO:+0200
TZOFFSETFROM:+0200
END:DAYLIGHT
END:VTIMEZONE
END:VCALENDAR
