BEGIN:VCALENDAR
PRODID:-//eluceo/ical//2.0/EN
VERSION:2.0
CALSCALE:GREGORIAN
BEGIN:VEVENT
UID:6167b112b50aaff4729b2ec921d8e4b7
DTSTAMP:20260421T112038Z
SUMMARY:Vernissage: «Cao Fei. Testimonies to the Near Future»
DESCRIPTION:
DTSTART:20260529T183000
DTEND:20260529T210000
LOCATION:GEGENWART
END:VEVENT
BEGIN:VTIMEZONE
TZID:Europe/Zurich
BEGIN:DAYLIGHT
DTSTART:20260529T183000
TZNAME:CEST
TZOFFSETTO:+0200
TZOFFSETFROM:+0200
END:DAYLIGHT
END:VTIMEZONE
END:VCALENDAR
