BEGIN:VCALENDAR
PRODID:-//eluceo/ical//2.0/EN
VERSION:2.0
CALSCALE:GREGORIAN
BEGIN:VEVENT
UID:e90f517270a08b9a0577b69f83e3a5a0
DTSTAMP:20260424T003429Z
SUMMARY:30 Minuten: Sam Gilliam
DESCRIPTION:
DTSTART:20260217T123000
DTEND:20260217T130000
LOCATION:NEUBAU
END:VEVENT
BEGIN:VTIMEZONE
TZID:Europe/Zurich
BEGIN:STANDARD
DTSTART:20260217T123000
TZNAME:CET
TZOFFSETTO:+0100
TZOFFSETFROM:+0100
END:STANDARD
END:VTIMEZONE
END:VCALENDAR
